BEGIN:VCALENDAR
VERSION:2.0
PRODID:-//Taylor Schools Foundation - ECPv6.15.18//NONSGML v1.0//EN
CALSCALE:GREGORIAN
METHOD:PUBLISH
X-WR-CALNAME:Taylor Schools Foundation
X-ORIGINAL-URL:https://taylorschoolsfoundation.org
X-WR-CALDESC:Events for Taylor Schools Foundation
REFRESH-INTERVAL;VALUE=DURATION:PT1H
X-Robots-Tag:noindex
X-PUBLISHED-TTL:PT1H
BEGIN:VTIMEZONE
TZID:America/Detroit
BEGIN:DAYLIGHT
TZOFFSETFROM:-0500
TZOFFSETTO:-0400
TZNAME:EDT
DTSTART:20240310T070000
END:DAYLIGHT
BEGIN:STANDARD
TZOFFSETFROM:-0400
TZOFFSETTO:-0500
TZNAME:EST
DTSTART:20241103T060000
END:STANDARD
BEGIN:DAYLIGHT
TZOFFSETFROM:-0500
TZOFFSETTO:-0400
TZNAME:EDT
DTSTART:20250309T070000
END:DAYLIGHT
BEGIN:STANDARD
TZOFFSETFROM:-0400
TZOFFSETTO:-0500
TZNAME:EST
DTSTART:20251102T060000
END:STANDARD
BEGIN:DAYLIGHT
TZOFFSETFROM:-0500
TZOFFSETTO:-0400
TZNAME:EDT
DTSTART:20260308T070000
END:DAYLIGHT
BEGIN:STANDARD
TZOFFSETFROM:-0400
TZOFFSETTO:-0500
TZNAME:EST
DTSTART:20261101T060000
END:STANDARD
END:VTIMEZONE
BEGIN:VEVENT
DTSTART;TZID=America/Detroit:20251115T180000
DTEND;TZID=America/Detroit:20251115T200000
DTSTAMP:20260424T144234
CREATED:20250909T154323Z
LAST-MODIFIED:20250909T155517Z
UID:10000002-1763229600-1763236800@taylorschoolsfoundation.org
SUMMARY:Dueling Pianos Fundraiser
DESCRIPTION:Join us on November 15th at 6pm for Dueling Pianos! 100% of proceeds from this event will help fund grants and opportunities through the Taylor Schools Foundation for Educational Excellence. \nLearn More Here
URL:https://taylorschoolsfoundation.org/event/dueling-pianos-fundraiser/
LOCATION:Democratic Club of Taylor\, 25400 Wick Road\, Taylor\, MI\, United States
ATTACH;FMTTYPE=image/jpeg:https://taylorschoolsfoundation.org/wp-content/uploads/2025/09/Dueling-Pianos-Event-flyer-2025.jpg
END:VEVENT
END:VCALENDAR