BEGIN:VCALENDAR
VERSION:2.0
PRODID:-//Taylor Schools Foundation - ECPv6.15.18//NONSGML v1.0//EN
CALSCALE:GREGORIAN
METHOD:PUBLISH
X-WR-CALNAME:Taylor Schools Foundation
X-ORIGINAL-URL:https://taylorschoolsfoundation.org
X-WR-CALDESC:Events for Taylor Schools Foundation
REFRESH-INTERVAL;VALUE=DURATION:PT1H
X-Robots-Tag:noindex
X-PUBLISHED-TTL:PT1H
BEGIN:VTIMEZONE
TZID:America/Detroit
BEGIN:DAYLIGHT
TZOFFSETFROM:-0500
TZOFFSETTO:-0400
TZNAME:EDT
DTSTART:20240310T070000
END:DAYLIGHT
BEGIN:STANDARD
TZOFFSETFROM:-0400
TZOFFSETTO:-0500
TZNAME:EST
DTSTART:20241103T060000
END:STANDARD
BEGIN:DAYLIGHT
TZOFFSETFROM:-0500
TZOFFSETTO:-0400
TZNAME:EDT
DTSTART:20250309T070000
END:DAYLIGHT
BEGIN:STANDARD
TZOFFSETFROM:-0400
TZOFFSETTO:-0500
TZNAME:EST
DTSTART:20251102T060000
END:STANDARD
BEGIN:DAYLIGHT
TZOFFSETFROM:-0500
TZOFFSETTO:-0400
TZNAME:EDT
DTSTART:20260308T070000
END:DAYLIGHT
BEGIN:STANDARD
TZOFFSETFROM:-0400
TZOFFSETTO:-0500
TZNAME:EST
DTSTART:20261101T060000
END:STANDARD
END:VTIMEZONE
BEGIN:VEVENT
DTSTART;TZID=America/Detroit:20251030T110000
DTEND;TZID=America/Detroit:20251030T220000
DTSTAMP:20260424T201554
CREATED:20250909T154944Z
LAST-MODIFIED:20250909T155406Z
UID:10000003-1761822000-1761861600@taylorschoolsfoundation.org
SUMMARY:Dine to Donate at PizzaPapalis
DESCRIPTION:Join us for a delicious way to give back! On Thursday\, October 30th\, PizzaPapalis will be hosting a Dine to Donate event to support the Taylor Schools Foundation for Educational Excellence. A portion of your meal purchase will go directly toward enhancing educational opportunities for Taylor students. \nBring your family\, invite your friends\, and enjoy your favorite deep-dish while making a difference in our schools. Every slice helps support brighter futures! \nTaylor Public Schools Foundation will receive 20% donation of your entire bill\, minus drinks. \n📍 PizzaPapalis | 14680 Pardee Rd\, Taylor\, MI 48180\n📅 Thursday\, October 30th
URL:https://taylorschoolsfoundation.org/event/dine-to-donate-at-pizzapapalis/
LOCATION:PizzaPapalis\, 14680 Pardee Rd\, Taylor\, MI\, 48180\, United States
ATTACH;FMTTYPE=image/jpeg:https://taylorschoolsfoundation.org/wp-content/uploads/2025/09/dine-to-donate.jpg
END:VEVENT
END:VCALENDAR