BEGIN:VCALENDAR
VERSION:2.0
PRODID:-//Taylor Schools Foundation - ECPv6.15.18//NONSGML v1.0//EN
CALSCALE:GREGORIAN
METHOD:PUBLISH
X-WR-CALNAME:Taylor Schools Foundation
X-ORIGINAL-URL:https://taylorschoolsfoundation.org
X-WR-CALDESC:Events for Taylor Schools Foundation
REFRESH-INTERVAL;VALUE=DURATION:PT1H
X-Robots-Tag:noindex
X-PUBLISHED-TTL:PT1H
BEGIN:VTIMEZONE
TZID:America/Detroit
BEGIN:DAYLIGHT
TZOFFSETFROM:-0500
TZOFFSETTO:-0400
TZNAME:EDT
DTSTART:20240310T070000
END:DAYLIGHT
BEGIN:STANDARD
TZOFFSETFROM:-0400
TZOFFSETTO:-0500
TZNAME:EST
DTSTART:20241103T060000
END:STANDARD
BEGIN:DAYLIGHT
TZOFFSETFROM:-0500
TZOFFSETTO:-0400
TZNAME:EDT
DTSTART:20250309T070000
END:DAYLIGHT
BEGIN:STANDARD
TZOFFSETFROM:-0400
TZOFFSETTO:-0500
TZNAME:EST
DTSTART:20251102T060000
END:STANDARD
BEGIN:DAYLIGHT
TZOFFSETFROM:-0500
TZOFFSETTO:-0400
TZNAME:EDT
DTSTART:20260308T070000
END:DAYLIGHT
BEGIN:STANDARD
TZOFFSETFROM:-0400
TZOFFSETTO:-0500
TZNAME:EST
DTSTART:20261101T060000
END:STANDARD
END:VTIMEZONE
BEGIN:VEVENT
DTSTART;TZID=America/Detroit:20250425T180000
DTEND;TZID=America/Detroit:20250425T200000
DTSTAMP:20260425T120712
CREATED:20250401T165654Z
LAST-MODIFIED:20250401T165911Z
UID:10000001-1745604000-1745611200@taylorschoolsfoundation.org
SUMMARY:Taylor Education Foundation Wall of Fame
DESCRIPTION:We are thrilled to invite you to a night dedicated to celebrating excellence and remarkable achievements. Join us for our inaugural Gala\, featuring a special guest speaker\, Senator Erika Geiss. Enjoy an evening of cocktails (cash bar)\, delectable dinner\, captivating entertainment\, and exciting raffles. \nThis will be an unforgettable event that you won’t want to miss! \nGet Tickets!
URL:https://taylorschoolsfoundation.org/event/taylor-education-foundation-wall-of-fame/
LOCATION:The Lakes of Taylor Golf Club\, 25505 Northline Rd\, Taylor\, MI\, 48180\, United States
ATTACH;FMTTYPE=image/jpeg:https://taylorschoolsfoundation.org/wp-content/uploads/2025/04/TSF-Wall-of-Fame-web.jpg
END:VEVENT
END:VCALENDAR